BEGIN:VCALENDAR
VERSION:2.0
PRODID:-//Princess Paula Consulting - ECPv6.15.20//NONSGML v1.0//EN
CALSCALE:GREGORIAN
METHOD:PUBLISH
X-WR-CALNAME:Princess Paula Consulting
X-ORIGINAL-URL:https://princesspaulaconsulting.com
X-WR-CALDESC:Events for Princess Paula Consulting
REFRESH-INTERVAL;VALUE=DURATION:PT1H
X-Robots-Tag:noindex
X-PUBLISHED-TTL:PT1H
BEGIN:VTIMEZONE
TZID:UTC
BEGIN:STANDARD
TZOFFSETFROM:+0000
TZOFFSETTO:+0000
TZNAME:UTC
DTSTART:20240101T000000
END:STANDARD
END:VTIMEZONE
BEGIN:VEVENT
DTSTART;TZID=UTC:20250816T100000
DTEND;TZID=UTC:20250816T180000
DTSTAMP:20260421T174754
CREATED:20250618T142131Z
LAST-MODIFIED:20250618T144805Z
UID:409-1755338400-1755367200@princesspaulaconsulting.com
SUMMARY:Heritage Days
DESCRIPTION:HistoryHeritage Days is held the third weekend in August going back to 1984. It’s a community celebration by the people\, for the people.Who We Are and How This is PossibleThe organizing committee is made up of local volunteers and made possible only with the continued generous support of our partners\, Basic Needs of South Washington County and the St. Paul Park-Newport Lions Club.  It is funded entirely from sponsorships\, fundraising\, and donations. Mission StatementSt. Paul Park’s Heritage Days festival\, organized entirely by dedicated volunteers and supported through generous donations\, aims to celebrate the spirit of community\, foster local talent\, and create lasting memories for all attendees. We strive to provide a joyful and inclusive experience that brings together neighbors\, friends\, and families\, while showcasing the unique charm and culture of our town. Through our collective efforts\, we hope to inspire a sense of pride and unity\, and to ensure the continued success and growth of our beloved festival for years to come.What is NewLast year\, the change of the main location to Heritage Park\, the inclusion of bands\, a smaller carnival\, inflatables\, food trucks\, outhouse races\, and our partnership with the Lions and Basic Needs contributed to a more family-oriented and successful gathering. For 2025\, based on community feedback and our funding capabilities\, we aim to add a larger carnival\, a new ninja obstacle challenge course\, and an additional band on Friday night. We will continue our beloved traditions\, including the mud volleyball tournament\, parade\, tractor pull\, and the revival of the outhouse races.
URL:https://princesspaulaconsulting.com/event/heritage-days/
ATTACH;FMTTYPE=image/avif:https://princesspaulaconsulting.com/wp-content/uploads/2025/06/SPPHD-Logo-without-Year.avif
END:VEVENT
BEGIN:VEVENT
DTSTART;TZID=UTC:20250814T090000
DTEND;TZID=UTC:20250814T230000
DTSTAMP:20260421T174754
CREATED:20250716T150112Z
LAST-MODIFIED:20250716T150112Z
UID:509-1755162000-1755212400@princesspaulaconsulting.com
SUMMARY:Talk Nerdy To Me: Generative AI You'll Actually Use
DESCRIPTION:Are you ready to embark on an exhilarating journey into the cutting-edge realm of Generative AI and ChatGPT?  Prepare for an immersive experience like no other as you delve into the limitless possibilities of Artificial Intelligence and the revolutionary LLM technology. Princess Paula\, your trusted guide in this thrilling adventure\, brings a unique blend of humor and expertise to make your journey both fun and informative. \n​If you’ve ever been scared you will accidentally break the internet or feel like AI is always watching you\, fear not! With Paula’s brand of humor and years of training experience\, you’re in for a treat. \n​Whether you’re a tech enthusiast\, business professional\, or simply curious about the future\, this workshop promises to leave you inspired and informed! Don’t miss out on this opportunity to elevate your understanding of Generative AI and ChatGPT to new heights. \n​ Key Takeaways: \n\n​Gain a clear\, confident understanding of how Generative AI and ChatGPT work—without the tech jargon\n​Explore real business use cases: marketing\, client communication\, content creation\, and strategic planning\n​Learn how to craft effective prompts that get results—and practice them in real time with guided activities\n​Identify the AI tools that boost productivity\, save time\, and support decision-making in your professional role\n​Discuss key considerations around ethics\, privacy\, and best practices to use AI responsibly and confidently\n​Walk away with actionable skills and AI workflows you can immediately apply in your day-to-day work\n\n​ Bring your laptops and your pocket protectors for an evening of learning and laughter.
URL:https://princesspaulaconsulting.com/event/talk-nerdy-to-me-generative-ai-youll-actually-use/
ATTACH;FMTTYPE=image/jpeg:https://princesspaulaconsulting.com/wp-content/uploads/2025/07/Capture.jpg
END:VEVENT
BEGIN:VEVENT
DTSTART;TZID=UTC:20250809T080000
DTEND;TZID=UTC:20250809T170000
DTSTAMP:20260421T174754
CREATED:20250618T142129Z
LAST-MODIFIED:20250618T144737Z
UID:408-1754726400-1754758800@princesspaulaconsulting.com
SUMMARY:Pioneer Day 2025
DESCRIPTION:What’s New for 2025?nPioneer Day will move to Saturday this year\, and will include a 5K before the parade starts. Also new this year\, a movie will be shown in Pioneer Park the night before the event on Friday\, August 8th. nReturning HighlightsnPioneer Day would not be the same without some of the standing traditions. The sweet corn stand will return\, and with the purchase of a button you can enjoy all you can eat corn while supplies last. Also plan to enjoy a parade ending at Pioneer Park\, with a car show\, live music\, petting zoo and bounce house!
URL:https://princesspaulaconsulting.com/event/pioneer-day-2025/
ATTACH;FMTTYPE=image/png:https://princesspaulaconsulting.com/wp-content/uploads/2025/06/newportPioneer.png
END:VEVENT
BEGIN:VEVENT
DTSTART;TZID=UTC:20250727T120000
DTEND;TZID=UTC:20250730T210000
DTSTAMP:20260421T174754
CREATED:20250626T213930Z
LAST-MODIFIED:20250626T213930Z
UID:482-1753617600-1753909200@princesspaulaconsulting.com
SUMMARY:2025 CUFEN Conference
DESCRIPTION:Has your credit union been looking for new ideas to start\, revamp or enhance your financial education\, community outreach\, school branches or youth accounts? Do you want to infuse your financial education program with fresh energy and new resources? Join us to learn and network about all things financial education. Our jam-packed\, fun and educational conference will be in beautiful Philadelphia\, PA the city of brotherly love! So register today! \nEmpower Hour – 2nd Floor Columbus Ballroom\nPaula Skoviera – Princess Paula Consulting\nReady to Network Like a Pro? Unleash Your Connections with a Seasoned Insider!\nGet ready for an electrifying session that promises to revolutionize your approach to\nnetworking!\nWhether you’re seeking leads\, referrals\, or game-changing partnerships\, this is the\ntopic for you. Princess Paula\, an Engagement Expert and master networker\nextraordinaire will guide you through interactive activities and turbocharged speed\nnetworking sessions. Get set to put your newfound skills into action from the moment\nyou sit down. But hold onto your hats—it’s not just about learning; it’s about taking\naction! You’ll walk away armed with practical strategies to grow your contact list and\nensure your business cards land in the hands of the right folks—right where they\nbelong. \n  \nInnovation Workshops\nPaula Skoviera – Princess Paula Consulting – 2nd Floor Columbus Ballroom\nGenerative AI & ChatGPT for Educators\nAre you ready to embark on an exhilarating journey into the cutting-edge realm of\nGenerative AI and ChatGPT? Prepare for an immersive experience like no other as you\ndelve into the limitless possibilities of Artificial Intelligence and the revolutionary LLM\ntechnology. Princess Paula\, your trusted guide in this thrilling adventure\, brings\na unique blend of humor and expertise to make your journey both fun and\ninformative. \n 
URL:https://princesspaulaconsulting.com/event/2025-cufen-conference/
LOCATION:Hilton Philadelphia at Penn’s Landing\, 201 S Christopher Columbus Blvd\, Philadelphia\, PA\, 19106\, United States
ATTACH;FMTTYPE=image/png:https://princesspaulaconsulting.com/wp-content/uploads/2025/06/cufen-logo.png
END:VEVENT
BEGIN:VEVENT
DTSTART;TZID=UTC:20250716T050000
DTEND;TZID=UTC:20250716T200000
DTSTAMP:20260421T174754
CREATED:20250626T212440Z
LAST-MODIFIED:20250626T212704Z
UID:475-1752642000-1752696000@princesspaulaconsulting.com
SUMMARY:Wine-Down with AI for Coaches
DESCRIPTION:5:00 PM – 5:30 PM Networking\n5:30 PM – 7:30 PM AI Workshop (bring a computer)\n7:30 PM – 8:00 PM Socialize with Princess Paula\nCEU: Core Competency 1.5\, Resource Development 1.5 \nWine-Down with AI for Coaches \nCoaches\, it’s time to explore how Generative AI can transform your coaching practice! Join us for Wine-Down with AI\, a two-hour interactive Generative AI training designed specifically for coaches across various industries. This isn’t just another tech talk; this is a hands-on\, eye-opening experience where you’ll see firsthand how AI can revolutionize the way you coach. \nWhat’s in Store? \n\nA fun\, interactive introduction to Generative AI—what it is and why it’s changing the game for coaches.\nHands-on exercises where you’ll test AI tools that can enhance client insights\, streamline workflows\, and generate powerful coaching prompts.\nReal-world applications of AI in coaching—how to use it ethically and effectively to deepen connections and drive results.\n\nKey Takeaways: \n\nPersonalized Coaching at Scale: Learn how AI can help you create tailored action plans\, conversation starters\, and client resources in seconds.\nContent & Curriculum Creation: Discover how AI can generate worksheets\, assessments\, and discussion guides to enhance your coaching programs.\nEnhancing Client Engagement: Explore how AI-powered insights can help you ask better questions\, track progress\, and provide meaningful feedback.\nSaving Time Without Losing Authenticity: Uncover ways AI can handle administrative tasks\, freeing you up to focus on what you do best—coaching!\n\nWhether you’re tech-savvy or tech-curious\, this session will leave you inspired\, informed\, and ready to integrate AI into your coaching practice. Grab a glass of wine\, roll up your sleeves\, and let’s explore the future of coaching together! \n(Presented by ICF Minnesota—dedicated to advancing the coaching profession with cutting-edge knowledge and community-driven learning.)
URL:https://princesspaulaconsulting.com/event/wine-down-with-ai-for-coaches/
LOCATION:modernwell\, 2909 S. Wayzata Blvd\, Minneapolis\, MN\, 55405\, United States
ATTACH;FMTTYPE=image/png:https://princesspaulaconsulting.com/wp-content/uploads/2025/06/Princess-Paula-White-shirt-Social-Media.png
END:VEVENT
BEGIN:VEVENT
DTSTART;TZID=UTC:20250620T080000
DTEND;TZID=UTC:20250623T170000
DTSTAMP:20260421T174754
CREATED:20250618T142129Z
LAST-MODIFIED:20250618T144328Z
UID:407-1750406400-1750698000@princesspaulaconsulting.com
SUMMARY:Strawberry Fest 2025
DESCRIPTION:Greetings from the Mayor of Cottage Grove! nWelcome to the City of Cottage Grove – a community with a bright future and a rich past!  We are a family-focused\, growing community of 35\,000 with great neighborhoods\, parks\, trails and an ever expanding business district.  We are conveniently located just 20 minutes south of St. Paul on Highway 61 north of Hastings! nOur rich history includes multiple strawberry fields dotting our landscape.  During the 1960’s and 1970’s many folks\, myself included\, fondly recall trips to Swanlund’s or Zywiec’s to pick fresh strawberries.  We carried home buckets filled to the brim with juicy berries turning them into delicious treats for everyone to enjoy.  That’s why our annual community festival has a strawberry theme – to keep that connection to our past alive! nThe Strawberry Fest committee is a group of passionate and dedicated volunteers who work tirelessly to ensure our community festival continues to grow and improve year after year after year.  And the word has gotten out as attendance goes up year after year with folks from all over the Midwest attending the festival! nI invite you to become a part of our festival!  Sponsor one of our events.  Have a booth in our Business Expo.  Be a Food Vendor.  Take part in the 80 plus unit Grande Day Parade.  Of course\, we love new ideas and new events—if you have one\, let us know! nI extend my sincere welcome and invitation to be a part of the Cottage Grove Strawberry Festival and look forward to seeing you at this year’s event
URL:https://princesspaulaconsulting.com/event/strawberry-fest-2025/
LOCATION:Kingston Park
ATTACH;FMTTYPE=image/jpeg:https://princesspaulaconsulting.com/wp-content/uploads/2025/06/strawberryFest.jpg
END:VEVENT
END:VCALENDAR