BEGIN:VCALENDAR
VERSION:2.0
PRODID:-//Princess Paula Consulting - ECPv6.15.20//NONSGML v1.0//EN
CALSCALE:GREGORIAN
METHOD:PUBLISH
X-WR-CALNAME:Princess Paula Consulting
X-ORIGINAL-URL:https://princesspaulaconsulting.com
X-WR-CALDESC:Events for Princess Paula Consulting
REFRESH-INTERVAL;VALUE=DURATION:PT1H
X-Robots-Tag:noindex
X-PUBLISHED-TTL:PT1H
BEGIN:VTIMEZONE
TZID:UTC
BEGIN:STANDARD
TZOFFSETFROM:+0000
TZOFFSETTO:+0000
TZNAME:UTC
DTSTART:20250101T000000
END:STANDARD
END:VTIMEZONE
BEGIN:VEVENT
DTSTART;TZID=UTC:20260421T070000
DTEND;TZID=UTC:20260421T090000
DTSTAMP:20260421T174900
CREATED:20260323T203953Z
LAST-MODIFIED:20260323T203953Z
UID:659-1776754800-1776762000@princesspaulaconsulting.com
SUMMARY:3M Annual Chamber Business Breakfast
DESCRIPTION:In sincere appreciation for being part of the Cottage Grove\, Newport\, and St. Paul Park Chamber business community\,\nwe are pleased to extend an invitation for you and your key personnel to attend our Annual Business Breakfast on Tuesday\, April 21\, 2026.
URL:https://princesspaulaconsulting.com/event/3m-annual-chamber-business-breakfast/
LOCATION:MN
ATTACH;FMTTYPE=image/jpeg:https://princesspaulaconsulting.com/wp-content/uploads/2026/03/cgac.jpg
END:VEVENT
BEGIN:VEVENT
DTSTART;TZID=UTC:20260421T150000
DTEND;TZID=UTC:20260421T170000
DTSTAMP:20260421T174900
CREATED:20260314T211301Z
LAST-MODIFIED:20260315T210750Z
UID:649-1776783600-1776790800@princesspaulaconsulting.com
SUMMARY:Empower Your Next Move
DESCRIPTION:Back by popular demand\, TeamWomen is excited to host our third Career Transition Professional Development and Networking Event! \nThis unique experience will feature some of the Twin Cities’ most influential Career and Executive Coaches from our Affiliate Partner Program and community. These experts will provide personalized guidance and actionable strategies to help propel your career forward. \nDesigned for employed or actively job-seeking professionals\, this program is perfect for anyone looking to advance their career or transition into a new opportunity within the next six months. \nThe event format includes rounds of small group discussions and Q&A with career transition experts\, offering a dynamic opportunity to gain valuable strategies and forge meaningful connections. \nJoin us for an empowering experience in a safe\, supportive environment. You’ll leave feeling inspired\, equipped with new insights\, and reassured that you’re not alone on your career journey \nOnline Registration Closes at 3PM on 4/19.
URL:https://princesspaulaconsulting.com/event/empower-your-next-move/
LOCATION:Bridgewater Bank\, 4450 Excelsior Boulevard\, St. Louis Park\, MN\, United States
ATTACH;FMTTYPE=image/jpeg:https://princesspaulaconsulting.com/wp-content/uploads/2026/03/Team-Women.jpg
END:VEVENT
END:VCALENDAR